BEGIN:VCALENDAR
VERSION:2.0
PRODID:-//Sisters Adorers Kolkata Province - ECPv6.14.1//NONSGML v1.0//EN
CALSCALE:GREGORIAN
METHOD:PUBLISH
X-ORIGINAL-URL:https://adorerskolkataprovince.org
X-WR-CALDESC:Events for Sisters Adorers Kolkata Province
REFRESH-INTERVAL;VALUE=DURATION:PT1H
X-Robots-Tag:noindex
X-PUBLISHED-TTL:PT1H
BEGIN:VTIMEZONE
TZID:Asia/Kolkata
BEGIN:STANDARD
TZOFFSETFROM:+0530
TZOFFSETTO:+0530
TZNAME:IST
DTSTART:20210101T000000
END:STANDARD
END:VTIMEZONE
BEGIN:VEVENT
DTSTART;VALUE=DATE:20210606
DTEND;VALUE=DATE:20210614
DTSTAMP:20260420T155521
CREATED:20210622T070334Z
LAST-MODIFIED:20210622T070537Z
UID:1176-1622937600-1623628799@adorerskolkataprovince.org
SUMMARY:Annual Spiritual Retreat 2021
DESCRIPTION:
URL:https://adorerskolkataprovince.org/events/annual-spiritual-retreat-2021/
LOCATION:Online
CATEGORIES:Kolkata province
END:VEVENT
END:VCALENDAR