BEGIN:VCALENDAR
VERSION:2.0
PRODID:-//Sisters Adorers Kolkata Province - ECPv6.15.20//NONSGML v1.0//EN
CALSCALE:GREGORIAN
METHOD:PUBLISH
X-WR-CALNAME:Sisters Adorers Kolkata Province
X-ORIGINAL-URL:https://adorerskolkataprovince.org
X-WR-CALDESC:Events for Sisters Adorers Kolkata Province
REFRESH-INTERVAL;VALUE=DURATION:PT1H
X-Robots-Tag:noindex
X-PUBLISHED-TTL:PT1H
BEGIN:VTIMEZONE
TZID:Asia/Kolkata
BEGIN:STANDARD
TZOFFSETFROM:+0530
TZOFFSETTO:+0530
TZNAME:IST
DTSTART:20190101T000000
END:STANDARD
END:VTIMEZONE
BEGIN:VEVENT
DTSTART;VALUE=DATE:20200128
DTEND;VALUE=DATE:20200131
DTSTAMP:20260425T080228
CREATED:20200203T162146Z
LAST-MODIFIED:20200203T163020Z
UID:1024-1580169600-1580428799@adorerskolkataprovince.org
SUMMARY:Animators gathering at Kolkata
DESCRIPTION:
URL:https://adorerskolkataprovince.org/events/animators-gathering-at-kolkata/
LOCATION:Kolkata\, Provincial house\, Provincial house\, Kolkata\, India
CATEGORIES:Superior's course
END:VEVENT
END:VCALENDAR