BEGIN:VCALENDAR
VERSION:2.0
PRODID:-//Sisters Adorers Kolkata Province - ECPv6.15.20//NONSGML v1.0//EN
CALSCALE:GREGORIAN
METHOD:PUBLISH
X-WR-CALNAME:Sisters Adorers Kolkata Province
X-ORIGINAL-URL:https://adorerskolkataprovince.org
X-WR-CALDESC:Events for Sisters Adorers Kolkata Province
REFRESH-INTERVAL;VALUE=DURATION:PT1H
X-Robots-Tag:noindex
X-PUBLISHED-TTL:PT1H
BEGIN:VTIMEZONE
TZID:Asia/Kolkata
BEGIN:STANDARD
TZOFFSETFROM:+0530
TZOFFSETTO:+0530
TZNAME:IST
DTSTART:20170101T000000
END:STANDARD
END:VTIMEZONE
BEGIN:VEVENT
DTSTART;VALUE=DATE:20180131
DTEND;VALUE=DATE:20180201
DTSTAMP:20260425T164611
CREATED:20180216T061509Z
LAST-MODIFIED:20180216T061509Z
UID:863-1517356800-1517443199@adorerskolkataprovince.org
SUMMARY:XI Provincial Chapter
DESCRIPTION:Sisters Adorers\, Kolkata Province celebrated its XI Provincial Chapter from January 26 – 30\, 2018\, presided over by Sr Mary Jessy Kanjirathinal\, the Provincial Superior.  Rev. Archbishop Thomas D’ Souza of Kolkata Archdiocese celebrated the inaugural holy Eucharist\, invoking the Holy Spirit to guide and lead the Chapter members. 35 members participated in the Chapter having its theme Leave your land\, Adore\, Walk\, Accompany. During the Chapter Sisters studied\, reflected and shared the life and Mission of the Province with its ups and downs. These were the moments to appreciate and thank each other for what is already accomplished and also to encourage and enlighten the actions that are yet to come. \nDeliberations on the XXX General Chapter document “Transformed by the Newness of the Spirit”\, made us to believe that it is a guiding light for each Sister Adorer to transform ourselves and be real and authentic in our life and mission.  Though the basic idea remain the same as always\, the new outlook and simple presentation of this document will foster true Adorer’s spirit and personal transformation. \nOn January 30\, the final day of the Chapter\, Sr Alice Varkey was elected as the Provincial Superior of Kolkata Province and Sr Lissiamma Joseph Mulamoottil\, the Vice provincial\, Sr Aparna Singh\, the 2nd Councilor\, Sr Rani Thelliyankal\, the 3rd Councilor and Sr Biji John the 4th Councilor. Throughout the Chapter\, there prevailed an atmosphere of peace\, unity and sense of belonging to the Congregation. The Chapter was concluded with a thanksgiving Mass for both the new and outgoing Provincial teams.
URL:https://adorerskolkataprovince.org/events/xi-provincial-chapter/
LOCATION:Kolkata\, Kolkata\, West Bengal\, India
CATEGORIES:XI Provincial Chapter
END:VEVENT
END:VCALENDAR